BEGIN:VCALENDAR
PRODID:-//eluceo/ical//2.0/EN
VERSION:2.0
CALSCALE:GREGORIAN
BEGIN:VEVENT
UID:7eafc8c6081c39ddfefe0827f455308d
DTSTAMP:20260419T132431Z
SUMMARY:LUNCH - Klassifikation Daniela Zingg
DESCRIPTION:Webseite: http://www.steakhouse-argentina.ch\nReferenten/innen:
  Am selben Tag wird eine Führung Naturmuseum Winterthur angeboten:Führun
 g 1: 14:30 Uhr\, gleich im Anschluss zum LunchFührung 2: 18 UhrFührung 3
 : 19 Uhr
URL:https://rcwm.ch/de/agenda/show/127737
DTSTART;TZID=Europe/Zurich:20210907T121500
DTEND;TZID=Europe/Zurich:20210907T134500
LOCATION:Steakhouse & Restaurant ARGENTINA\, Rudolfstrasse 15\, 8400 Winter
 thur
CATEGORIES:Rotary
END:VEVENT
BEGIN:VTIMEZONE
TZID:Europe/Zurich
BEGIN:DAYLIGHT
DTSTART:20210907T121500
TZNAME:CEST
TZOFFSETTO:+0200
TZOFFSETFROM:+0200
END:DAYLIGHT
END:VTIMEZONE
END:VCALENDAR
