BEGIN:VCALENDAR
PRODID:-//eluceo/ical//2.0/EN
VERSION:2.0
CALSCALE:GREGORIAN
BEGIN:VEVENT
UID:29feadff6f6bc0c8c17149c09e962fca
DTSTAMP:20260419T131610Z
SUMMARY:AKTIV-PARTNERANLASS - Bowling & Spaghetti
DESCRIPTION:Webseite: https://beseco.ch/kontakt/
URL:https://rcwm.ch/de/agenda/show/131755
DTSTART;TZID=Europe/Zurich:20211111T180000
DTEND;TZID=Europe/Zurich:20211111T210000
LOCATION:Bowlinghalle Rümikon
CATEGORIES:Rotary
END:VEVENT
BEGIN:VTIMEZONE
TZID:Europe/Zurich
BEGIN:STANDARD
DTSTART:20211111T180000
TZNAME:CET
TZOFFSETTO:+0100
TZOFFSETFROM:+0100
END:STANDARD
END:VTIMEZONE
END:VCALENDAR
