BEGIN:VCALENDAR
PRODID:-//eluceo/ical//2.0/EN
VERSION:2.0
CALSCALE:GREGORIAN
BEGIN:VEVENT
UID:275cb146f3d0d8067374c73877ffdc07
DTSTAMP:20260419T133350Z
SUMMARY:LUNCH - Pfadi Winterthur Handball... der Weg…
DESCRIPTION:Webseite: http://www.steakhouse-argentina.ch\nReferenten/innen:
  Jürg Hofmann\, Präsident Pfadi Winterthur Handball
URL:https://rcwm.ch/de/agenda/show/133871
DTSTART;TZID=Europe/Zurich:20211102T121500
DTEND;TZID=Europe/Zurich:20211102T134500
LOCATION:Steakhouse + Restaurant ARGENTINA\, Rudolfstrasse 15\, 8400 Winter
 thur
CATEGORIES:Rotary
END:VEVENT
BEGIN:VTIMEZONE
TZID:Europe/Zurich
BEGIN:STANDARD
DTSTART:20211102T121500
TZNAME:CET
TZOFFSETTO:+0100
TZOFFSETFROM:+0100
END:STANDARD
END:VTIMEZONE
END:VCALENDAR
