BEGIN:VCALENDAR
PRODID:-//eluceo/ical//2.0/EN
VERSION:2.0
CALSCALE:GREGORIAN
BEGIN:VEVENT
UID:0deabcfee9f7f3e944d62ca3b398c54f
DTSTAMP:20260419T114337Z
SUMMARY:LUNCH - Sozialdepartement der Stadt Winterthur: Herausforderungen u
 nd Chancen
DESCRIPTION:Webseite: http://www.steakhouse-argentina.ch\nReferenten/innen:
  Nicolas Galladé\, \nStadtrat Winterthur: Vorsteher Sozialdepartement
URL:https://rcwm.ch/de/agenda/show/133873
DTSTART;TZID=Europe/Zurich:20211130T121500
DTEND;TZID=Europe/Zurich:20211130T134500
LOCATION:Steakhouse + Restaurant ARGENTINA\, Rudolfstrasse 15\, 8400 Winter
 thur
CATEGORIES:Rotary
END:VEVENT
BEGIN:VTIMEZONE
TZID:Europe/Zurich
BEGIN:STANDARD
DTSTART:20211130T121500
TZNAME:CET
TZOFFSETTO:+0100
TZOFFSETFROM:+0100
END:STANDARD
END:VTIMEZONE
END:VCALENDAR
