BEGIN:VCALENDAR
PRODID:-//eluceo/ical//2.0/EN
VERSION:2.0
CALSCALE:GREGORIAN
BEGIN:VEVENT
UID:9f6bd7d6cc13ddcae8138eb33676195b
DTSTAMP:20260419T130856Z
SUMMARY:Technopark
DESCRIPTION:Speaker(s): Thomas Schumann\, Geschäftsleiter Technopark Winte
 rthur&nbsp\;https://us02web.zoom.us/j/6814322847?pwd=K2tNZmMxRnhlS0RwZXdzd
 Es3K1FCQT09\nMeeting-ID: 681 432 2847\nKenncode: 925765\nSchnelleinwahl mo
 bil\n+41432107042\,\,6814322847#\,\,\,\,*925765# Schweiz\n+41432107108\,\,
 6814322847#\,\,\,\,*925765# Schweiz\n\n
URL:https://rcwm.ch/en/agenda/show/123161
DTSTART;TZID=Europe/Zurich:20210420T130000
DTEND;TZID=Europe/Zurich:20210420T134500
LOCATION:Zoom
CATEGORIES:Rotary
END:VEVENT
BEGIN:VTIMEZONE
TZID:Europe/Zurich
BEGIN:DAYLIGHT
DTSTART:20210420T130000
TZNAME:CEST
TZOFFSETTO:+0200
TZOFFSETFROM:+0200
END:DAYLIGHT
END:VTIMEZONE
END:VCALENDAR
