BEGIN:VCALENDAR
PRODID:-//eluceo/ical//2.0/EN
VERSION:2.0
CALSCALE:GREGORIAN
BEGIN:VEVENT
UID:f70fd286e19fb7eda7af1fb4b4d431ae
DTSTAMP:20260423T114859Z
SUMMARY:PARTNERANLASS - Kulturort Galerie Weiertal
DESCRIPTION:Site internet: http://www.galerieweiertal.ch\nConférencier(s):
  Maja von Meiss
URL:https://rcwm.ch/fr/agenda/show/127733
DTSTART;TZID=Europe/Zurich:20210826T170000
DTEND;TZID=Europe/Zurich:20210826T210000
LOCATION:Kulturort Galerie Weiertal
CATEGORIES:Rotary
END:VEVENT
BEGIN:VTIMEZONE
TZID:Europe/Zurich
BEGIN:DAYLIGHT
DTSTART:20210826T170000
TZNAME:CEST
TZOFFSETTO:+0200
TZOFFSETFROM:+0200
END:DAYLIGHT
END:VTIMEZONE
END:VCALENDAR
