BEGIN:VCALENDAR
PRODID:-//eluceo/ical//2.0/EN
VERSION:2.0
CALSCALE:GREGORIAN
BEGIN:VEVENT
UID:2c0f60a3e321b5d0a6a6816e8b3c6377
DTSTAMP:20260420T125954Z
SUMMARY:DINNER - Covid - Brandbeschleuniger der Digitalisierung
DESCRIPTION:Site internet: http://www.steakhouse-argentina.ch\nConférencie
 r(s): Milko van Rijn - Global Head Digital Communication\, Mettler Toledo
URL:https://rcwm.ch/fr/agenda/show/127740
DTSTART;TZID=Europe/Zurich:20210921T180000
DTEND;TZID=Europe/Zurich:20210921T220000
LOCATION:Steakhouse + Restaurant ARGENTINA\, Rudolfstrasse 15\, 8400 Winter
 thur
CATEGORIES:Rotary
END:VEVENT
BEGIN:VTIMEZONE
TZID:Europe/Zurich
BEGIN:DAYLIGHT
DTSTART:20210921T180000
TZNAME:CEST
TZOFFSETTO:+0200
TZOFFSETFROM:+0200
END:DAYLIGHT
END:VTIMEZONE
END:VCALENDAR
