BEGIN:VCALENDAR
PRODID:-//eluceo/ical//2.0/EN
VERSION:2.0
CALSCALE:GREGORIAN
BEGIN:VEVENT
UID:2b9562934e9ba0bf7c5345732ce1866a
DTSTAMP:20260422T133040Z
SUMMARY:FRÜHSTÜCK
DESCRIPTION:Site internet: https://phwin.ch/restaurant-und-bar-bloom/
URL:https://rcwm.ch/fr/agenda/show/129739
DTSTART;TZID=Europe/Zurich:20211007T063000
DTEND;TZID=Europe/Zurich:20211007T080000
LOCATION:Park Hotel\, Stadthausstrasse 4\, 8400 Winterthur
CATEGORIES:Rotary
END:VEVENT
BEGIN:VTIMEZONE
TZID:Europe/Zurich
BEGIN:DAYLIGHT
DTSTART:20211007T063000
TZNAME:CEST
TZOFFSETTO:+0200
TZOFFSETFROM:+0200
END:DAYLIGHT
END:VTIMEZONE
END:VCALENDAR
