BEGIN:VCALENDAR
PRODID:-//eluceo/ical//2.0/EN
VERSION:2.0
CALSCALE:GREGORIAN
BEGIN:VEVENT
UID:de276f484bb7be2c2908f46aa865b216
DTSTAMP:20260423T085727Z
SUMMARY:LUNCH - Feng Shui im Business
DESCRIPTION:Site internet: http://www.steakhouse-argentina.ch\nConférencie
 r(s): Petra Staudenmair
URL:https://rcwm.ch/fr/agenda/show/133415
DTSTART;TZID=Europe/Zurich:20211207T121500
DTEND;TZID=Europe/Zurich:20211207T134500
LOCATION:Steakhouse + Restaurant ARGENTINA\, Rudolfstrasse 15\, 8400 Winter
 thur
CATEGORIES:Rotary
END:VEVENT
BEGIN:VTIMEZONE
TZID:Europe/Zurich
BEGIN:STANDARD
DTSTART:20211207T121500
TZNAME:CET
TZOFFSETTO:+0100
TZOFFSETFROM:+0100
END:STANDARD
END:VTIMEZONE
END:VCALENDAR
