BEGIN:VCALENDAR
PRODID:-//eluceo/ical//2.0/EN
VERSION:2.0
CALSCALE:GREGORIAN
BEGIN:VEVENT
UID:a962db61a6bf231906ea8f70bfabb6eb
DTSTAMP:20260422T075209Z
SUMMARY:LUNCH - Äschli-Brauchtum in Elgg mit Hans Mäschli (Ehrenpräsiden
 t)
DESCRIPTION:Site internet: http://www.steakhouse-argentina.ch\nConférencie
 r(s): Hans Mäschli\, Ehrenpräsident der Aschermittwochsgesellschaft
URL:https://rcwm.ch/fr/agenda/show/133877
DTSTART;TZID=Europe/Zurich:20220111T121500
DTEND;TZID=Europe/Zurich:20220111T134500
LOCATION:Steakhouse + Restaurant ARGENTINA\, Rudolfstrasse 15\, 8400 Winter
 thur
CATEGORIES:Rotary
END:VEVENT
BEGIN:VTIMEZONE
TZID:Europe/Zurich
BEGIN:STANDARD
DTSTART:20220111T121500
TZNAME:CET
TZOFFSETTO:+0100
TZOFFSETFROM:+0100
END:STANDARD
END:VTIMEZONE
END:VCALENDAR
