BEGIN:VCALENDAR
PRODID:-//eluceo/ical//2.0/EN
VERSION:2.0
CALSCALE:GREGORIAN
BEGIN:VEVENT
UID:2d95f488eb6e30ad79fd70a153a43192
DTSTAMP:20260422T075914Z
SUMMARY:LUNCH - "Werkstatteinblick" mit Beat Kunz\, Leiter Stadtgrün Stadt
  Winterthur
DESCRIPTION:Site internet: http://www.steakhouse-argentina.ch\nConférencie
 r(s): Beat Kunz\, Leiter Stadtgrün Stadt Winterthur
URL:https://rcwm.ch/fr/agenda/show/136439
DTSTART;TZID=Europe/Zurich:20220118T121500
DTEND;TZID=Europe/Zurich:20220118T134500
LOCATION:Steakhouse + Restaurant ARGENTINA\, Rudolfstrasse 15\, 8400 Winter
 thur
CATEGORIES:Rotary
END:VEVENT
BEGIN:VTIMEZONE
TZID:Europe/Zurich
BEGIN:STANDARD
DTSTART:20220118T121500
TZNAME:CET
TZOFFSETTO:+0100
TZOFFSETFROM:+0100
END:STANDARD
END:VTIMEZONE
END:VCALENDAR
