BEGIN:VCALENDAR
PRODID:-//eluceo/ical//2.0/EN
VERSION:2.0
CALSCALE:GREGORIAN
BEGIN:VEVENT
UID:8b903ca0b8891d1434f04b515e28b2fd
DTSTAMP:20260423T054337Z
SUMMARY:ROKJ-Golftour
DESCRIPTION:Sito web: https://www.rokj-golftour.ch/events/\nRelatore/i: Gol
 fen für einen guten Zweck bei guter Stimmung\, lockerer Gesellschaft und 
 viel Fun!
URL:https://rcwm.ch/it/agenda/show/116568
DTSTART;TZID=Europe/Zurich:20200930T000000
DTEND;TZID=Europe/Zurich:20200930T000000
LOCATION:GC Schloss Goldenberg\, Dorf
CATEGORIES:Rotary
END:VEVENT
BEGIN:VTIMEZONE
TZID:Europe/Zurich
BEGIN:DAYLIGHT
DTSTART:20200930T000000
TZNAME:CEST
TZOFFSETTO:+0200
TZOFFSETFROM:+0200
END:DAYLIGHT
END:VTIMEZONE
END:VCALENDAR
