BEGIN:VCALENDAR
PRODID:-//eluceo/ical//2.0/EN
VERSION:2.0
CALSCALE:GREGORIAN
BEGIN:VEVENT
UID:f51de72c8a0b48d9c38a6e4f6c13ecb8
DTSTAMP:20260423T071551Z
SUMMARY:LUNCH - Bedrohungsbild Schweiz
DESCRIPTION:Sito web: http://www.steakhouse-argentina.ch\nRelatore/i: Dr. C
 hristophe Ebnöther
URL:https://rcwm.ch/it/agenda/show/127735
DTSTART;TZID=Europe/Zurich:20210831T121500
DTEND;TZID=Europe/Zurich:20210831T134500
LOCATION:Steakhouse & Restaurant ARGENTINA\, Rudolfstrasse 15\, 8400 Winter
 thur
CATEGORIES:Rotary
END:VEVENT
BEGIN:VTIMEZONE
TZID:Europe/Zurich
BEGIN:DAYLIGHT
DTSTART:20210831T121500
TZNAME:CEST
TZOFFSETTO:+0200
TZOFFSETFROM:+0200
END:DAYLIGHT
END:VTIMEZONE
END:VCALENDAR
