BEGIN:VCALENDAR
PRODID:-//eluceo/ical//2.0/EN
VERSION:2.0
CALSCALE:GREGORIAN
BEGIN:VEVENT
UID:433b3259138f8630520963114accad02
DTSTAMP:20260423T115555Z
SUMMARY:DINNER - Die Weltwirtschaft nach der Pandemie (ABGESAGT)
DESCRIPTION:Sito web: http://www.steakhouse-argentina.ch\nRelatore/i: Mark 
 Dittli\, Financial Journalist and Founding Partner of The Market Zürich\,
  Schweiz
URL:https://rcwm.ch/it/agenda/show/131749
DTSTART;TZID=Europe/Zurich:20211116T180000
DTEND;TZID=Europe/Zurich:20211116T210000
LOCATION:Steakhouse + Restaurant ARGENTINA\, Rudolfstrasse 15\, 8400 Winter
 thur
CATEGORIES:Rotary
END:VEVENT
BEGIN:VTIMEZONE
TZID:Europe/Zurich
BEGIN:STANDARD
DTSTART:20211116T180000
TZNAME:CET
TZOFFSETTO:+0100
TZOFFSETFROM:+0100
END:STANDARD
END:VTIMEZONE
END:VCALENDAR
