BEGIN:VCALENDAR
PRODID:-//eluceo/ical//2.0/EN
VERSION:2.0
CALSCALE:GREGORIAN
BEGIN:VEVENT
UID:8f157c2a637f817c4a7014d439790438
DTSTAMP:20260423T105112Z
SUMMARY:FRÜHSTÜCK
DESCRIPTION:Sito web: https://phwin.ch/restaurant-und-bar-bloom/
URL:https://rcwm.ch/it/agenda/show/134052
DTSTART;TZID=Europe/Zurich:20211104T063000
DTEND;TZID=Europe/Zurich:20211104T080000
LOCATION:Park Hotel\, Stadthausstrasse 4\, 8400 Winterthur
CATEGORIES:Rotary
END:VEVENT
BEGIN:VTIMEZONE
TZID:Europe/Zurich
BEGIN:STANDARD
DTSTART:20211104T063000
TZNAME:CET
TZOFFSETTO:+0100
TZOFFSETFROM:+0100
END:STANDARD
END:VTIMEZONE
END:VCALENDAR
